BEGIN:VCALENDAR
VERSION:2.0
PRODID:-//Ted Stevens Center - ECPv6.15.18//NONSGML v1.0//EN
CALSCALE:GREGORIAN
METHOD:PUBLISH
X-WR-CALNAME:Ted Stevens Center
X-ORIGINAL-URL:https://tedstevensarcticcenter.org
X-WR-CALDESC:Events for Ted Stevens Center
REFRESH-INTERVAL;VALUE=DURATION:PT1H
X-Robots-Tag:noindex
X-PUBLISHED-TTL:PT1H
BEGIN:VTIMEZONE
TZID:America/Anchorage
BEGIN:DAYLIGHT
TZOFFSETFROM:-0900
TZOFFSETTO:-0800
TZNAME:AKDT
DTSTART:20250309T110000
END:DAYLIGHT
BEGIN:STANDARD
TZOFFSETFROM:-0800
TZOFFSETTO:-0900
TZNAME:AKST
DTSTART:20251102T100000
END:STANDARD
BEGIN:DAYLIGHT
TZOFFSETFROM:-0900
TZOFFSETTO:-0800
TZNAME:AKDT
DTSTART:20260308T110000
END:DAYLIGHT
BEGIN:STANDARD
TZOFFSETFROM:-0800
TZOFFSETTO:-0900
TZNAME:AKST
DTSTART:20261101T100000
END:STANDARD
BEGIN:DAYLIGHT
TZOFFSETFROM:-0900
TZOFFSETTO:-0800
TZNAME:AKDT
DTSTART:20270314T110000
END:DAYLIGHT
BEGIN:STANDARD
TZOFFSETFROM:-0800
TZOFFSETTO:-0900
TZNAME:AKST
DTSTART:20271107T100000
END:STANDARD
END:VTIMEZONE
BEGIN:VEVENT
DTSTART;VALUE=DATE:20260420
DTEND;VALUE=DATE:20260425
DTSTAMP:20260425T042356
CREATED:20260419T122040Z
LAST-MODIFIED:20260420T123343Z
UID:6119-1776643200-1777075199@tedstevensarcticcenter.org
SUMMARY:Arctic Regional Security Orientation Course: 26-03 ARSOC
DESCRIPTION:Arctic Regional Security Orientation Course (ARSOC)\nARSOC is a five-day\, 35-hour\, virtually presented (at the present time) executive education course designed as an Arctic fundamental program for U.S. and Allied & Partner nation’s mid- to senior-career security practitioners. The course supports and creates communities of interest to provide opportunities for personnel to achieve a basic understanding of the current challenging Arctic security dilemmas and shape internal U.S. and international thinking. The course provides opportunities for participants to gain insight to inform for Arctic security analysis\, survey practical solutions\, and advance relationship building that supports the rules-based order in the Arctic. \nRegister
URL:https://tedstevensarcticcenter.org/event/arctic-regional-security-orientation-course-26-03-arsoc/
CATEGORIES:Courses
ATTACH;FMTTYPE=image/jpeg:https://tedstevensarcticcenter.org/wp-content/uploads/2025/03/ARSOC_Flyer_5_MAR_25_V7_3.jpg
END:VEVENT
BEGIN:VEVENT
DTSTART;VALUE=DATE:20260407
DTEND;VALUE=DATE:20260410
DTSTAMP:20260425T042356
CREATED:20260419T124522Z
LAST-MODIFIED:20260419T124522Z
UID:6148-1775520000-1775779199@tedstevensarcticcenter.org
SUMMARY:NATO in the North Course: 26-01 N2C
DESCRIPTION:NATO in the North Course (N2C)\n\n\nN2C is a three-day\, 12-hour course that examines NATO’s evolving role and presence in the Arctic region amid rapidly changing security dynamics. The curriculum analyzes how recent developments\, including Russia’s war against Ukraine\, increased Chinese regional activity\, and the accession of Finland and Sweden to NATO\, have fundamentally altered Arctic security considerations. The course explores how these changes affect NATO’s core tasks of deterrence and defense\, crisis prevention and management\, and cooperative security\, while examining the growing importance of resilience in Arctic operations. \n\n\nRegister
URL:https://tedstevensarcticcenter.org/event/nato-in-the-north-course-26-01-n2c/
CATEGORIES:Courses
ATTACH;FMTTYPE=image/jpeg:https://tedstevensarcticcenter.org/wp-content/uploads/2025/07/NATO-in-the-North-2025.jpg
END:VEVENT
END:VCALENDAR