BEGIN:VCALENDAR
VERSION:2.0
PRODID:-//Ted Stevens Center - ECPv6.15.18//NONSGML v1.0//EN
CALSCALE:GREGORIAN
METHOD:PUBLISH
X-WR-CALNAME:Ted Stevens Center
X-ORIGINAL-URL:https://tedstevensarcticcenter.org
X-WR-CALDESC:Events for Ted Stevens Center
REFRESH-INTERVAL;VALUE=DURATION:PT1H
X-Robots-Tag:noindex
X-PUBLISHED-TTL:PT1H
BEGIN:VTIMEZONE
TZID:America/Anchorage
BEGIN:DAYLIGHT
TZOFFSETFROM:-0900
TZOFFSETTO:-0800
TZNAME:AKDT
DTSTART:20250309T110000
END:DAYLIGHT
BEGIN:STANDARD
TZOFFSETFROM:-0800
TZOFFSETTO:-0900
TZNAME:AKST
DTSTART:20251102T100000
END:STANDARD
BEGIN:DAYLIGHT
TZOFFSETFROM:-0900
TZOFFSETTO:-0800
TZNAME:AKDT
DTSTART:20260308T110000
END:DAYLIGHT
BEGIN:STANDARD
TZOFFSETFROM:-0800
TZOFFSETTO:-0900
TZNAME:AKST
DTSTART:20261101T100000
END:STANDARD
BEGIN:DAYLIGHT
TZOFFSETFROM:-0900
TZOFFSETTO:-0800
TZNAME:AKDT
DTSTART:20270314T110000
END:DAYLIGHT
BEGIN:STANDARD
TZOFFSETFROM:-0800
TZOFFSETTO:-0900
TZNAME:AKST
DTSTART:20271107T100000
END:STANDARD
END:VTIMEZONE
BEGIN:VEVENT
DTSTART;VALUE=DATE:20260413
DTEND;VALUE=DATE:20260415
DTSTAMP:20260425T110945
CREATED:20260330T171546Z
LAST-MODIFIED:20260402T164354Z
UID:5761-1776038400-1776211199@tedstevensarcticcenter.org
SUMMARY:Arctic-Pacific Security Dialogue
DESCRIPTION:The 2026 Arctic-Pacific Security Dialogue (APSD) will provide a 2-day unclassified forum featuring an in-region field component to deepen regional understanding of Arctic security\, enhance coordination with allies and partners\, and generate insights to support warfighter readiness and decision-advantage. This year’s theme covers U.S. and allied readiness to secure an accessible Arctic Ocean of the future. Building on the Arctic Waterways Security Strategy in the Maritime Action Plan\, APSD 2026 aims to establish a new framework for international Arctic collaboration with Indo-Pacific allies on Arctic issues of mutual interest.
URL:https://tedstevensarcticcenter.org/event/arctic-pacific-security-dialogue/
LOCATION:Ted Stevens Senter for Arctic Security\, 99506\, 8414 McGuire Ave\, AK\, 99506\, United States
CATEGORIES:Arctic-Pacific
ATTACH;FMTTYPE=image/png:https://tedstevensarcticcenter.org/wp-content/uploads/2026/03/apsd-event-cover.png
END:VEVENT
END:VCALENDAR